View In:
ArcGIS JavaScript
ArcGIS Online map viewer
ArcGIS Earth
ArcGIS Pro
Service Description:
Map Name: Map
Legend
All Layers and Tables
Layers:
Description:
Service Item Id: 5e3bc34f179d439c92396cb9abd8a3ed
Copyright Text:
Spatial Reference:
28992
(28992)
LatestVCSWkid(0)
Single Fused Map Cache: true
Tile Info:
- Height: 256
- Width: 256
- DPI: 96
-
Levels of Detail: 24
-
Level ID: 0
[ Start Tile, End Tile ]
- Resolution: 239811.099686428
- Scale: 9.063726602321688E8
-
Level ID: 1
[ Start Tile, End Tile ]
- Resolution: 119905.549843214
- Scale: 4.531863301160844E8
-
Level ID: 2
[ Start Tile, End Tile ]
- Resolution: 59952.774921607
- Scale: 2.265931650580422E8
-
Level ID: 3
[ Start Tile, End Tile ]
- Resolution: 29976.3874608035
- Scale: 1.132965825290211E8
-
Level ID: 4
[ Start Tile, End Tile ]
- Resolution: 14988.19373040175
- Scale: 5.664829126451055E7
-
Level ID: 5
[ Start Tile, End Tile ]
- Resolution: 7494.096865200875
- Scale: 2.8324145632255275E7
-
Level ID: 6
[ Start Tile, End Tile ]
- Resolution: 3747.0484326004375
- Scale: 1.4162072816127637E7
-
Level ID: 7
[ Start Tile, End Tile ]
- Resolution: 1873.5242163002188
- Scale: 7081036.408063819
-
Level ID: 8
[ Start Tile, End Tile ]
- Resolution: 936.7621081501094
- Scale: 3540518.2040319094
-
Level ID: 9
[ Start Tile, End Tile ]
- Resolution: 468.3810540750547
- Scale: 1770259.1020159547
-
Level ID: 10
[ Start Tile, End Tile ]
- Resolution: 234.19052703752735
- Scale: 885129.5510079773
-
Level ID: 11
[ Start Tile, End Tile ]
- Resolution: 117.09526351876367
- Scale: 442564.77550398867
-
Level ID: 12
[ Start Tile, End Tile ]
- Resolution: 58.54763175938184
- Scale: 221282.38775199433
-
Level ID: 13
[ Start Tile, End Tile ]
- Resolution: 29.27381587969092
- Scale: 110641.19387599717
-
Level ID: 14
[ Start Tile, End Tile ]
- Resolution: 14.63690793984546
- Scale: 55320.59693799858
-
Level ID: 15
[ Start Tile, End Tile ]
- Resolution: 7.31845396992273
- Scale: 27660.29846899929
-
Level ID: 16
[ Start Tile, End Tile ]
- Resolution: 3.659226984961365
- Scale: 13830.149234499646
-
Level ID: 17
[ Start Tile, End Tile ]
- Resolution: 1.8296134924806824
- Scale: 6915.074617249823
-
Level ID: 18
[ Start Tile, End Tile ]
- Resolution: 0.9148067462403412
- Scale: 3457.5373086249115
-
Level ID: 19
[ Start Tile, End Tile ]
- Resolution: 0.4574033731201706
- Scale: 1728.7686543124557
-
Level ID: 20
[ Start Tile, End Tile ]
- Resolution: 0.2287016865600853
- Scale: 864.3843271562279
-
Level ID: 21
[ Start Tile, End Tile ]
- Resolution: 0.11435084328004265
- Scale: 432.19216357811393
-
Level ID: 22
[ Start Tile, End Tile ]
- Resolution: 0.057175421640021325
- Scale: 216.09608178905697
-
Level ID: 23
[ Start Tile, End Tile ]
- Resolution: 0.028587710820010662
- Scale: 108.04804089452848
- Format: Mixed
- Compression Quality: 95.0
- Origin: X: -3.0540820759862777E7
Y: 3.111228438406131E7
- Spatial Reference: 28992
(28992)
LatestVCSWkid(0)
Storage Info:
- Storage Format: esriMapCacheStorageModeCompactV2
- Packet Size: 128
Initial Extent:
XMin: 155729.68036589967
YMin: 464675.6104773027
XMax: 155774.6127389625
YMax: 464716.201225361
Spatial Reference: 28992
(28992)
LatestVCSWkid(0)
Full Extent:
XMin: 155127.4091640003
YMin: 463898.65366799984
XMax: 155823.5583864003
YMax: 464819.1358607998
Spatial Reference: 28992
(28992)
LatestVCSWkid(0)
Units: esriMeters
Supported Image Format Types: PNG32,PNG24,PNG,JPG,DIB,TIFF,EMF,PS,PDF,GIF,SVG,SVGZ,BMP
Document Info:
Title: Map
Author:
Comments:
Subject:
Category:
Keywords:
AntialiasingMode: None
TextAntialiasingMode: Force
Supports Dynamic Layers: false
MaxRecordCount: 1000
MaxSelectionCount: 2000
MaxImageHeight: 4096
MaxImageWidth: 4096
Supported Query Formats: JSON, geoJSON, PBF
Supports Query Data Elements: true
Min Scale: 216
Max Scale: 0
Min LOD: 22
Max LOD: 23
Supports Datum Transformation: true
Child Resources:
Info
Supported Operations:
QueryLegends
Return Updates